BEGIN:VCALENDAR
VERSION:2.0
PRODID:-//St. Luke’s Penn Foundation - ECPv6.15.20//NONSGML v1.0//EN
CALSCALE:GREGORIAN
METHOD:PUBLISH
X-ORIGINAL-URL:https://www.pennfoundation.org
X-WR-CALDESC:Events for St. Luke’s Penn Foundation
REFRESH-INTERVAL;VALUE=DURATION:PT1H
X-Robots-Tag:noindex
X-PUBLISHED-TTL:PT1H
BEGIN:VTIMEZONE
TZID:America/New_York
BEGIN:DAYLIGHT
TZOFFSETFROM:-0500
TZOFFSETTO:-0400
TZNAME:EDT
DTSTART:20210314T070000
END:DAYLIGHT
BEGIN:STANDARD
TZOFFSETFROM:-0400
TZOFFSETTO:-0500
TZNAME:EST
DTSTART:20211107T060000
END:STANDARD
BEGIN:DAYLIGHT
TZOFFSETFROM:-0500
TZOFFSETTO:-0400
TZNAME:EDT
DTSTART:20220313T070000
END:DAYLIGHT
BEGIN:STANDARD
TZOFFSETFROM:-0400
TZOFFSETTO:-0500
TZNAME:EST
DTSTART:20221106T060000
END:STANDARD
BEGIN:DAYLIGHT
TZOFFSETFROM:-0500
TZOFFSETTO:-0400
TZNAME:EDT
DTSTART:20230312T070000
END:DAYLIGHT
BEGIN:STANDARD
TZOFFSETFROM:-0400
TZOFFSETTO:-0500
TZNAME:EST
DTSTART:20231105T060000
END:STANDARD
END:VTIMEZONE
BEGIN:VEVENT
DTSTART;TZID=America/New_York:20221206T080000
DTEND;TZID=America/New_York:20221206T100000
DTSTAMP:20260419T104101
CREATED:20220510T181338Z
LAST-MODIFIED:20221027T141724Z
UID:11918-1670313600-1670320800@www.pennfoundation.org
SUMMARY:Mental Wellness in the Workplace
DESCRIPTION:Join us for an informative morning where you will learn tips for promoting mental wellness in the workplace\, including how you can make your own mental wellness a priority. \nYou will learn how to have conversations about mental health with your employees\, reduce mental health stigma in the workplace\, implement mental wellness initiatives for all employees\, promote the benefits of self-care\, and incorporate self-care into your busy schedule. \nParticipants will be eligible for continuing education credits. \n\nSPEAKERS \nLaura Kratz\, M.Ed.\, LPC\,  Clinical Coordinator\, St. Luke’s Penn Foundation EAP\nLaura Kratz\, M.Ed.\, LPC\, has more than 30 years of experience working in the mental health field. Laura has worked as an EAP counselor since 2018\, providing counseling to individuals\, couples\, and families. She has extensive experience in the areas of life transitions\, anxiety\, grief and loss\, substance abuse\, depression and mood disorders\, anger\, work-related issues. She also has experience in providing management and staff trainings. Laura previously worked part-time for EAP from 2005-2012. \n\nKevin Davis\, Senior Benefits Consultant & Senior Vice President\, Univest Insurance\nKevin has more than 25 years of experience in benefit sales and consulting. He provides expertise in the areas of compliance\, strategic planning\, employee engagement and communications and serves on the Lehigh Valley Business Coalition on Healthcare Education and Wellness Committee. Kevin has spoken at various healthcare conferences\, most recently as a panelist at the Healthcare Symposium for the Greater Lehigh Valley Chamber of Commerce.  \n\nPlease register by Tuesday\, November 29. For questions\, contact Deb Ryan\, EAP Practice Administrator\, at 215-453-5165 or Debra.Ryan@sluhn.org.
URL:https://www.pennfoundation.org/event/mental-wellness-in-the-workplace/
LOCATION:St. Luke’s Anderson Campus – Women and Babies Pavilion\, 1872 St. Luke's Boulevard\, Easton\, PA\, 18075\, United States
END:VEVENT
END:VCALENDAR