BEGIN:VCALENDAR
VERSION:2.0
PRODID:-//St. Luke’s Penn Foundation - ECPv6.15.20//NONSGML v1.0//EN
CALSCALE:GREGORIAN
METHOD:PUBLISH
X-WR-CALNAME:St. Luke’s Penn Foundation
X-ORIGINAL-URL:https://www.pennfoundation.org
X-WR-CALDESC:Events for St. Luke’s Penn Foundation
REFRESH-INTERVAL;VALUE=DURATION:PT1H
X-Robots-Tag:noindex
X-PUBLISHED-TTL:PT1H
BEGIN:VTIMEZONE
TZID:America/New_York
BEGIN:DAYLIGHT
TZOFFSETFROM:-0500
TZOFFSETTO:-0400
TZNAME:EDT
DTSTART:20210314T070000
END:DAYLIGHT
BEGIN:STANDARD
TZOFFSETFROM:-0400
TZOFFSETTO:-0500
TZNAME:EST
DTSTART:20211107T060000
END:STANDARD
BEGIN:DAYLIGHT
TZOFFSETFROM:-0500
TZOFFSETTO:-0400
TZNAME:EDT
DTSTART:20220313T070000
END:DAYLIGHT
BEGIN:STANDARD
TZOFFSETFROM:-0400
TZOFFSETTO:-0500
TZNAME:EST
DTSTART:20221106T060000
END:STANDARD
BEGIN:DAYLIGHT
TZOFFSETFROM:-0500
TZOFFSETTO:-0400
TZNAME:EDT
DTSTART:20230312T070000
END:DAYLIGHT
BEGIN:STANDARD
TZOFFSETFROM:-0400
TZOFFSETTO:-0500
TZNAME:EST
DTSTART:20231105T060000
END:STANDARD
END:VTIMEZONE
BEGIN:VEVENT
DTSTART;TZID=America/New_York:20220614T080000
DTEND;TZID=America/New_York:20220614T110000
DTSTAMP:20260419T194209
CREATED:20220428T173959Z
LAST-MODIFIED:20220505T180001Z
UID:11850-1655193600-1655204400@www.pennfoundation.org
SUMMARY:"Tipping the Pain Scale" - Documentary Preview and Panel Discussion
DESCRIPTION:Tipping The Pain Scale is a feature documentary film following diverse individuals grappling with the current systemic failures of how we have dealt with addiction in communities and their journey to develop and employ new\, innovative\, and often controversial solutions to the problem. It is a quasi-anthology\, weaving characters through their own stories as they connect to the issues plaguing all communities and the country in an urgent fight to save lives. \nFollowing the documentary\, there will be a panel discussion featuring Greg Williams\, Producer of “Tipping the Pain Scale;” Josh De La Rosa\, Boston Police Officer who participated in the documentary; Korin Danchise-Curtis\, Clinical Supervisor of St. Luke’s Penn Foundation’s COE program\, and a SLPF client. \nSchedule of Events\n8:00 am – Continental Breakfast/Registration\n8:30 am – Welcome & Documentary\n10:20 am – Panel Discussion \nLocation\nSt. Luke’s Penn Foundation\nLoux Healthcare Center – Univest Community Room\n807 Lawn Avenue\, Sellersville \nClick here for more information about “Tipping the Pain Scale.” \nReserve your seat by June 7 by clicking below. \nThis event is made possible by a grant from Today\, Inc. Foundation.
URL:https://www.pennfoundation.org/event/tipping-the-pain-scale-documentary-preview-and-panel-discussion/
LOCATION:Univest Community Room\, 807 Lawn Avenue\, Sellersville\, PA\, 18960\, United States
END:VEVENT
END:VCALENDAR