BEGIN:VCALENDAR
VERSION:2.0
PRODID:-//St. Luke’s Penn Foundation - ECPv6.15.20//NONSGML v1.0//EN
CALSCALE:GREGORIAN
METHOD:PUBLISH
X-ORIGINAL-URL:https://www.pennfoundation.org
X-WR-CALDESC:Events for St. Luke’s Penn Foundation
REFRESH-INTERVAL;VALUE=DURATION:PT1H
X-Robots-Tag:noindex
X-PUBLISHED-TTL:PT1H
BEGIN:VTIMEZONE
TZID:America/New_York
BEGIN:DAYLIGHT
TZOFFSETFROM:-0500
TZOFFSETTO:-0400
TZNAME:EDT
DTSTART:20200308T070000
END:DAYLIGHT
BEGIN:STANDARD
TZOFFSETFROM:-0400
TZOFFSETTO:-0500
TZNAME:EST
DTSTART:20201101T060000
END:STANDARD
BEGIN:DAYLIGHT
TZOFFSETFROM:-0500
TZOFFSETTO:-0400
TZNAME:EDT
DTSTART:20210314T070000
END:DAYLIGHT
BEGIN:STANDARD
TZOFFSETFROM:-0400
TZOFFSETTO:-0500
TZNAME:EST
DTSTART:20211107T060000
END:STANDARD
BEGIN:DAYLIGHT
TZOFFSETFROM:-0500
TZOFFSETTO:-0400
TZNAME:EDT
DTSTART:20220313T070000
END:DAYLIGHT
BEGIN:STANDARD
TZOFFSETFROM:-0400
TZOFFSETTO:-0500
TZNAME:EST
DTSTART:20221106T060000
END:STANDARD
END:VTIMEZONE
BEGIN:VEVENT
DTSTART;TZID=America/New_York:20210202T183000
DTEND;TZID=America/New_York:20210202T193000
DTSTAMP:20260420T213446
CREATED:20201231T205230Z
LAST-MODIFIED:20201231T211031Z
UID:9271-1612290600-1612294200@www.pennfoundation.org
SUMMARY:Benefits Planning and Government Services
DESCRIPTION:Are you raising a grandchild or other family member as a result of the opioid epidemic? Join us for the third session of a five-week educational series* designed to address your most pressing issues and questions. \nIn this session\, Michele A. Leahy\, MS\, CPWIC\, from Leahy Life Planning\, will help you better understand social security benefits and how to access them and other benefits. \nAdditional upcoming session topics include: \nFebruary 9 – Understanding the Disease of Addiction \nFebruary 16 – Support Session and Resources \n*You may pick and choose which sessions you attend; you do not need to attend them all. 
URL:https://www.pennfoundation.org/event/benefits-planning-and-government-services/
LOCATION:Zoom (scroll down to register)
END:VEVENT
BEGIN:VEVENT
DTSTART;TZID=America/New_York:20210209T183000
DTEND;TZID=America/New_York:20210209T193000
DTSTAMP:20260420T213446
CREATED:20201231T205818Z
LAST-MODIFIED:20201231T211234Z
UID:9275-1612895400-1612899000@www.pennfoundation.org
SUMMARY:Understanding the Disease of Addiction
DESCRIPTION:Are you raising a grandchild or other family member as a result of the opioid epidemic? Join us for the fourth session of a five-week educational series designed to address your most pressing issues and questions. \nIn this session\, Mike Karlson\, BA\, CPC\, CADC\, an outpatient drug and alcohol counselor with Penn Foundation’s Mobile Engagement Services\, will discuss addiction as a disease and the impact addiction has on families. \nThe upcoming final topic session will be:\nFebruary 16 – Support Session and Resources
URL:https://www.pennfoundation.org/event/understanding-the-disease-of-addiction/
LOCATION:Zoom (scroll down to register)
END:VEVENT
BEGIN:VEVENT
DTSTART;TZID=America/New_York:20210216T183000
DTEND;TZID=America/New_York:20210216T193000
DTSTAMP:20260420T213446
CREATED:20201231T210106Z
LAST-MODIFIED:20201231T211334Z
UID:9279-1613500200-1613503800@www.pennfoundation.org
SUMMARY:Support Session and Resources
DESCRIPTION:Are you raising a grandchild or other family member as a result of the opioid epidemic? Join us for the final session of a five-week educational series designed to address your most pressing issues and questions. This session will focus on community support and resources.
URL:https://www.pennfoundation.org/event/support-session-and-resources/
LOCATION:Zoom (scroll down to register)
END:VEVENT
END:VCALENDAR