BEGIN:VCALENDAR
VERSION:2.0
PRODID:-//St. Luke’s Penn Foundation - ECPv6.15.20//NONSGML v1.0//EN
CALSCALE:GREGORIAN
METHOD:PUBLISH
X-ORIGINAL-URL:https://www.pennfoundation.org
X-WR-CALDESC:Events for St. Luke’s Penn Foundation
REFRESH-INTERVAL;VALUE=DURATION:PT1H
X-Robots-Tag:noindex
X-PUBLISHED-TTL:PT1H
BEGIN:VTIMEZONE
TZID:America/New_York
BEGIN:DAYLIGHT
TZOFFSETFROM:-0500
TZOFFSETTO:-0400
TZNAME:EDT
DTSTART:20190310T070000
END:DAYLIGHT
BEGIN:STANDARD
TZOFFSETFROM:-0400
TZOFFSETTO:-0500
TZNAME:EST
DTSTART:20191103T060000
END:STANDARD
BEGIN:DAYLIGHT
TZOFFSETFROM:-0500
TZOFFSETTO:-0400
TZNAME:EDT
DTSTART:20200308T070000
END:DAYLIGHT
BEGIN:STANDARD
TZOFFSETFROM:-0400
TZOFFSETTO:-0500
TZNAME:EST
DTSTART:20201101T060000
END:STANDARD
BEGIN:DAYLIGHT
TZOFFSETFROM:-0500
TZOFFSETTO:-0400
TZNAME:EDT
DTSTART:20210314T070000
END:DAYLIGHT
BEGIN:STANDARD
TZOFFSETFROM:-0400
TZOFFSETTO:-0500
TZNAME:EST
DTSTART:20211107T060000
END:STANDARD
END:VTIMEZONE
BEGIN:VEVENT
DTSTART;TZID=America/New_York:20200922T083000
DTEND;TZID=America/New_York:20200922T100000
DTSTAMP:20260421T054517
CREATED:20200224T173642Z
LAST-MODIFIED:20200821T160456Z
UID:7483-1600763400-1600768800@www.pennfoundation.org
SUMMARY:Building Resilient Men and Women...One Child at a Time
DESCRIPTION:Join us for this community-wide suicide prevention program as we welcome back local psychologist and award-winning author Dr. Michael Bradley to share his expertise\, answer questions\, and help us learn how to be compassionate and nurturing caregivers so our children can thrive! All attendees will receive a FREE copy of his award-winning book\, The Heart & Soul of the Next Generation (while supplies last). \nBooks generously sponsored by: \n \n  \n  \nAbout Dr. Bradley\n\nDr. Bradley charms audiences with his wit\, wisdom\, compassion\, and humility\, drawing on the experiences gained in his 30-year career. He is equally popular with students\, parents\, teachers\, counselors and physicians for his real-world advice\, strategies\, and methods to help us all transform our relationships with teens. \n  \nEvent Sponsors\nAbington-Lansdale Hospital – Jefferson\nGrand View Health
URL:https://www.pennfoundation.org/event/building-resilient-men-and-women-one-child-at-a-time/
LOCATION:Zoom Webinar (scroll down and click to register)
END:VEVENT
END:VCALENDAR