BEGIN:VCALENDAR
VERSION:2.0
PRODID:-//St. Luke’s Penn Foundation - ECPv6.15.20//NONSGML v1.0//EN
CALSCALE:GREGORIAN
METHOD:PUBLISH
X-ORIGINAL-URL:https://www.pennfoundation.org
X-WR-CALDESC:Events for St. Luke’s Penn Foundation
REFRESH-INTERVAL;VALUE=DURATION:PT1H
X-Robots-Tag:noindex
X-PUBLISHED-TTL:PT1H
BEGIN:VTIMEZONE
TZID:America/New_York
BEGIN:DAYLIGHT
TZOFFSETFROM:-0500
TZOFFSETTO:-0400
TZNAME:EDT
DTSTART:20190310T070000
END:DAYLIGHT
BEGIN:STANDARD
TZOFFSETFROM:-0400
TZOFFSETTO:-0500
TZNAME:EST
DTSTART:20191103T060000
END:STANDARD
BEGIN:DAYLIGHT
TZOFFSETFROM:-0500
TZOFFSETTO:-0400
TZNAME:EDT
DTSTART:20200308T070000
END:DAYLIGHT
BEGIN:STANDARD
TZOFFSETFROM:-0400
TZOFFSETTO:-0500
TZNAME:EST
DTSTART:20201101T060000
END:STANDARD
BEGIN:DAYLIGHT
TZOFFSETFROM:-0500
TZOFFSETTO:-0400
TZNAME:EDT
DTSTART:20210314T070000
END:DAYLIGHT
BEGIN:STANDARD
TZOFFSETFROM:-0400
TZOFFSETTO:-0500
TZNAME:EST
DTSTART:20211107T060000
END:STANDARD
END:VTIMEZONE
BEGIN:VEVENT
DTSTART;TZID=America/New_York:20200219T083000
DTEND;TZID=America/New_York:20200219T103000
DTSTAMP:20260421T172025
CREATED:20200125T174827Z
LAST-MODIFIED:20200125T174827Z
UID:7176-1582101000-1582108200@www.pennfoundation.org
SUMMARY:Psychiatric Rehabilitation
DESCRIPTION:About the Course \n“Psychiatric Rehabilitation is the systematic effort to help adults with psychiatric disabilities to attain their personal goals.  It is bidirectional in focus\, seeking to influence both the individuals’ strengths and challenges related to these goals\, and the community contexts in which the persons will live them out.”  (Corrigan\, 2016; p. 47).  Throughout this training\, participants will learn about the field of psychiatric rehabilitation\, the philosophy and guiding principles that provide a framework for service delivery\, and the ways in which the principles can be infused throughout the mental health service system.  Psychiatric rehabilitation is not clinical in its design\, rather it is rehabilitative and focused on skill building\, promoting individuals’ progress towards self-management and increased capacity in the domains of living\, employment\, education\, wellness\, and social skills.  The field of psychiatric rehabilitation takes a holistic approach to overall well-being for individuals living with severe and persistent mental illness. \n  \nCourse Objectives \n\nParticipants will be able to define Psychiatric Rehabilitation (PsyR) and its origin\nParticipants will be able to identify the philosophy\, values\, principles\, and practices in PsyR\nParticipants will be able to describe licensed models of PsyR as well as the ways in which the principles and practices of PsyR can be infused into any behavioral health practitioner’s skill set\nParticipants will demonstrate ability to apply PsyR principles to practical situations\n\n  \nTarget Audience \nTarget audience includes psychologists\, social workers\, professional counselors\, marriage and family therapists\, recovery coaches\, peer specialists\, nurses\, nurse practitioners\, psychiatrists\, and substance abuse counselors for this intermediate level of instruction. \n  \nCEs \n\n2.0 PCB Approved Education Credits\n2.0 Continuing Education Credits for Licensed Social Workers\, Licensed Professional Counselors\, and Licensed Marriage and Family Therapists\n2.0 Continuing Education Credits for Registered Nurses (RN) and Licensed Practical Nurses (LPN)\n\n  \nThere is no conflict of interest or commercial support for this program. \nAll attendees must arrive promptly at the beginning of the training and remain the duration of the training to receive continuing education credits.  Please have license number available when signing in. \nPersons with disabilities and special needs are encouraged to contact the registrar for further information. \n  \nAbout the Presenters \nSara Dobson\, MS\, CPRP\, has 13 years of direct service experience in the mental health field.  She is a graduate of the Masters in Psychiatric Rehabilitation Leadership program at Rutger’s University\, where she was the principal investigator of a retrospective study examining Tai Chi in an outpatient mental health setting.  Sara has been leading trauma-sensitive yoga classes at Penn Foundation\, Inc. since 2011\, and is the Director of REACH\, a curriculum-based Psychiatric Rehabilitation program. \nJill Valiant\, MS\, CPRP\, is the Director of Wellspring Clubhouse\, a Clubhouse International Accredited\, state licensed Psychiatric Rehabilitation program of Penn Foundation.  Jill holds a Masters degree in Psychiatric Rehabilitation from Rutgers University\, holds her  CPRP credential\, and is a current PhD candidate in Psychiatric Rehabilitation with Rutgers University.  She has 14 years of direct experience in the mental health field\, 11 of which are within Psychiatric Rehabilitation.  She has experience speaking at statewide\, national\, and international Clubhouse Conferences\, as well as on smaller platforms at Clubhouse events and in the community\, increasing awareness of resources available to impact change. \n  \nReferences \n\nCorrigan\, P. W. (2016).  Principles and practice of psychiatric rehabilitation.  New York\, NY:  The Guilford Press.\nPratt\, C. W.\, Gill\, K. J.\, Barrett\, N. M.\, & Roberts\, M. M. (1999).  Psychiatric Rehabilitation.  San Diego\, CA:  Academic Press.\n\n  \nFor more information\, contact Karen M. Kern at 215.453.5171 or kkern@pennfoundation.org \n  \nIf you do not receive the professional benefits described in our program materials or you have some other professional complaint\, please let us know in writing within 7 days of the training and we will honor your request for a refund.
URL:https://www.pennfoundation.org/event/psychiatric-rehabilitation/
LOCATION:Penn Foundation (807 Lawn Avenue\, Sellersville) – Loux Center (Univest Community Room)\, 807 Lawn Avenue\, Sellersville\, PA\, 18960\, United States
END:VEVENT
END:VCALENDAR